Workbook
Name JR_PAGE_ANCHOR_0_1: Debt!$A$1
Name JR_PAGE_ANCHOR_0_1: #REF!
Name JR_PAGE_ANCHOR_0_2: Equity!$A$1

Sheet Overlap Summary
A1: Portfolio Overlap Report - Equity Schemes
A2: ="As on "&RIGHT(Equity!A2,10) -> As on 30.06.2026
A4: Scheme | B4: Quantum ESG Best In Class Strategy Fund | C4: Quantum Ethical Fund | D4: Quantum Small Cap Fund | E4: Quantum Tax Saving Fund
A5: Quantum Long Term Equity Value Fund | B5: ='Equity Lookup'!$K$3/100 -> 0.2518 | C5: ='Equity Lookup'!$K$4/100 -> 0.1423 | D5: ='Equity Lookup'!$M$3/100 -> 0.1734 | E5: ='Equity Lookup'!$M$4/100 -> 0.9219
A6: Quantum ESG Best In Class Strategy Fund | B6: - | C6: ='Equity Lookup'!$O$4/100 -> 0.632 | D6: ='Equity Lookup'!$Q$3/100 -> 0.0996 | E6: ='Equity Lookup'!$Q$4/100 -> 0.2544
A7: Quantum Ethical Fund | B7: - | C7: - | D7: ='Equity Lookup'!$S$4/100 -> 0.0591 | E7: ='Equity Lookup'!$U$3/100 -> 0.1438
A8: Quantum Small Cap Fund | B8: - | C8: - | D8: - | E8: ='Equity Lookup'!$W$3/100 -> 0.1734
A9: Quantum Tax Saving Fund | B9: - | C9: - | D9: - | E9: -
A11: Portfolio Overlap Report - Debt Schemes
A12: ="As on "&RIGHT(Debt!A2,10) -> As on 30.06.2026
A14: Scheme | B14: Quantum Liquid Fund
A15: Quantum Dynamic Bond Fund | B15: ='Debt Lookup'!$H$3/100 -> 0.0034
A16: Quantum Liquid Fund | B16: -
A19: Methodology (As per Annexure A):
A20: 1. Weightage of each security = Market Value as % of Net Asset
A21: 2. Only securities with valid ISINs are considered
A22: 3. For each common security, minimum weightage between the two schemes is taken
A23: 4. Portfolio Overlap (%) = Sum of minimum weightages of all common securities
A25: Note: '-' indicates the comparison is shown in the corresponding row/column. All values auto-update when Equity/Debt sheets are modified.

Sheet Debt
A1: QUANTUM MUTUAL FUND
A2: Holding Statement as on 30.06.2026
A3: Scheme Code | B3: Scheme Name | C3: Security Code | D3: ISIN | E3: Security Name | F3: Security Type | G3: Security Type Name | H3: Quantity | I3: Face Value Per Unit (Rs.) | J3: Previous Market Price | K3: Current Market Price | L3: Price Variance between Previous & Current (%) | M3: Quotation Currency | N3: Average Unit Cost (Rs.) | O3: Total Book Cost (Rs.) | P3: Ammortised Book Cost (Rs.) | Q3: Total Market Value (Rs.) | R3: Total Face Value (Rs.) | S3: Cummulative Unrealised Gain/(Loss) (Rs.) | T3: Unrealised Gain Loss for the Day (Rs.) | U3: Market Value as % of Net Asset | V3: Market Value as % of Total Investments | W3: Accrued Interest | X3: Accretion of Premium/Discount | Y3: Price Date | Z3: Rating | AA3: Coupon Rate | AB3: Previous IP Date | AC3: Next IP Date | AD3: Final Maturity | AE3: Residual Maturity Period (Days) | AF3: Maturity / Put / Call / Reset Option | AG3: Classification of Maturity / Put / Call / Reset Option | AH3: Listed / Unlisted | AI3: Illiquidty bps | AJ3: CBV Matrix | AK3: Sector / Industry Classification | AL3: Issuer Name | AM3: Exchange
A4: QDBF | B4: Quantum Dynamic Term Fund | C4: TRP_010726 | E4: TRP_010726 | F4: CBLO | G4: CBLO | H4: 239942.34 | I4: 100 | J4: 0 | K4: 100 | L4: 1 | M4: INR | N4: 99.985106 | O4: 23990660 | P4: 23994234 | Q4: 23994234 | R4: 23994234 | S4: 0 | T4: 0 | U4: 0.0276 | V4: 0.0285 | W4: 0 | X4: 3573.72 | Y4: 46203 | AC4: 46204 | AD4: 46204 | AE4: 1 | AF4: 46204 | AG4: MATURITY | AH4: UNLISTED | AK4: Others | AL4: Clearing Corporation of India Ltd | AM4: NSE
A5: QDBF | B5: Quantum Dynamic Term Fund | F5: CBLO TOTAL | O5: 23990660 | P5: 23994234 | Q5: 23994234 | S5: 0 | T5: 0 | U5: 0.0276 | V5: 0.0285 | W5: 0 | X5: 3573.72
A6: QDBF | B6: Quantum Dynamic Term Fund | C6: CDMD50ME | D6: INF0RQ622028 | E6: Corporate Debt Market Development Fund Class A2 | F6: CDMDF | G6: Corporate Debt Market Development Fund Class A2 | H6: 322.055 | I6: 10000 | J6: 11869.8 | K6: 11871.391 | L6: 0.0001340281 | M6: INR | N6: 10221.131 | O6: 3291766.5 | P6: 3291766.5 | Q6: 3823240.8 | R6: 3220550 | S6: 531474.36 | T6: 512.42 | U6: 0.0044 | V6: 0.0045 | W6: 0 | X6: 0 | Y6: 46203 | AH6: UNLISTED | AK6: Others | AL6: Corporate Debt Market Development Fund | AM6: NSE
A7: QDBF | B7: Quantum Dynamic Term Fund | F7: CDMDF TOTAL | O7: 3291766.5 | P7: 3291766.5 | Q7: 3823240.8 | S7: 531474.36 | T7: 512.42 | U7: 0.0044 | V7: 0.0045 | W7: 0 | X7: 0
A8: QDBF | B8: Quantum Dynamic Term Fund | C8: NBAR896 | D8: INE261F08EU4 | E8: 7.44% NABARD NCD SR 26F (MD 17/07/2029) | F8: CORPORATE | G8: Corporate Bond | H8: 500000 | I8: 100 | J8: 100.5875 | K8: 100.6084 | L8: 0.00020773613 | M8: INR | N8: 100.25 | O8: 50125000 | P8: 50125000 | Q8: 50304200 | R8: 50000000 | S8: 179200 | T8: 10450 | U8: 0.0579 | V8: 0.0598 | W8: 1080328.8 | X8: 0 | Y8: 46203 | Z8: CRISIL AAA | AA8: 7.44 | AC8: 46220 | AD8: 47316 | AE8: 1113 | AF8: 47316 | AG8: MATURITY | AH8: LISTED | AK8: Finance | AL8: National Bank For Agriculture and Rural Development | AM8: NSE
A9: QDBF | B9: Quantum Dynamic Term Fund | C9: NHBA337 | D9: INE557F08GE4 | E9: 6.80% National Housing Bank NCD (MD 02/04/2032) | F9: CORPORATE | G9: Corporate Bond | H9: 500000 | I9: 100 | J9: 98.0976 | K9: 98.3471 | L9: 0.002536933 | M9: INR | N9: 100 | O9: 50000000 | P9: 50000000 | Q9: 49173550 | R9: 50000000 | S9: -826450 | T9: 124750 | U9: 0.0566 | V9: 0.0584 | W9: 624109.59 | X9: 0 | Y9: 46203 | Z9: CARE AAA | AA9: 6.8 | AB9: 46137 | AC9: 46502 | AD9: 48306 | AE9: 2103 | AF9: 48306 | AG9: MATURITY | AH9: LISTED | AK9: Finance | AL9: National Housing Bank | AM9: NSE
A10: QDBF | B10: Quantum Dynamic Term Fund | C10: POWF419 | D10: INE134E08JQ3 | E10: 8.95% Power Fin Corp Ltd SR 178 NCD (MD 10/10/28) | F10: CORPORATE | G10: Corporate Bond | H10: 500000 | I10: 100 | J10: 103.5858 | K10: 103.632 | L10: 0.00044580824 | M10: INR | N10: 105.0134 | O10: 52506700 | P10: 52506700 | Q10: 51816000 | R10: 50000000 | S10: -690700 | T10: 23100 | U10: 0.0596 | V10: 0.0616 | W10: 3236712.3 | X10: 0 | Y10: 46203 | Z10: CRISIL AAA | AA10: 8.95 | AB10: 45940 | AC10: 46305 | AD10: 47036 | AE10: 833 | AF10: 47036 | AG10: MATURITY | AH10: LISTED | AK10: Finance | AL10: Power Finance Corporation Limited | AM10: NSE
A11: QDBF | B11: Quantum Dynamic Term Fund | C11: SIDB573 | D11: INE556F08KS8 | E11: 7.34% SIDBI NCD Ser III (MD 26/02/2029) | F11: CORPORATE | G11: Corporate Bond | H11: 500000 | I11: 100 | J11: 100.1218 | K11: 100.2555 | L11: 0.0013335927 | M11: INR | N11: 99.8475 | O11: 49923750 | P11: 49923750 | Q11: 50127750 | R11: 50000000 | S11: 204000 | T11: 66850 | U11: 0.0577 | V11: 0.0596 | W11: 2795232.9 | X11: 0 | Y11: 46203 | Z11: CRISIL AAA | AA11: 7.34 | AB11: 45926 | AC11: 46291 | AD11: 47175 | AE11: 972 | AF11: 47175 | AG11: MATURITY | AH11: LISTED | AK11: Finance | AL11: Small Industries Dev Bank of India | AM11: NSE
A12: QDBF | B12: Quantum Dynamic Term Fund | F12: CORPORATE TOTAL | O12: 202555450 | P12: 202555450 | Q12: 201421500 | S12: -1133950 | T12: 225150 | U12: 0.2318 | V12: 0.2394 | W12: 7736383.6 | X12: 0
A13: QDBF | B13: Quantum Dynamic Term Fund | C13: GOI5152 | D13: IN0020230051 | E13: 7.3% GOI (MD 19/06/2053) | F13: GOVERNMENT | G13: Government Bond | H13: 400 | I13: 100 | J13: 99.6003 | K13: 99.927 | L13: 0.0032693867 | M13: INR | N13: 101.1021 | O13: 40440.84 | P13: 40440.84 | Q13: 39970.8 | R13: 40000 | S13: -470.04 | T13: 130.68 | U13: 0 | V13: 0 | W13: 97.33 | X13: 0 | Y13: 46203 | Z13: SOV | AA13: 7.3 | AB13: 46192 | AC13: 46375 | AD13: 56054 | AE13: 9851 | AF13: 56054 | AG13: MATURITY | AH13: LISTED | AK13: Government of India | AL13: Government of India | AM13: NSE
A14: QDBF | B14: Quantum Dynamic Term Fund | C14: GOI5817 | D14: IN0020240050 | E14: 7.04% GOI (MD 03/06/2029) | F14: GOVERNMENT | G14: Government Bond | H14: 500000 | I14: 100 | J14: 102.2201 | K14: 102.3448 | L14: 0.0012184302 | M14: INR | N14: 102.975 | O14: 51487500 | P14: 51487500 | Q14: 51172400 | R14: 50000000 | S14: -315100 | T14: 62350 | U14: 0.0589 | V14: 0.0608 | W14: 273777.78 | X14: 0 | Y14: 46203 | Z14: SOV | AA14: 7.04 | AB14: 46176 | AC14: 46359 | AD14: 47272 | AE14: 1069 | AF14: 47272 | AG14: MATURITY | AH14: LISTED | AK14: Government of India | AL14: Government of India | AM14: NSE
A15: QDBF | B15: Quantum Dynamic Term Fund | C15: GOI6889 | D15: IN0020250042 | E15: 6.68% GOI (MD 07/07/2040) | F15: GOVERNMENT | G15: Government Bond | H15: 1500000 | I15: 100 | J15: 97.2087 | K15: 97.4463 | L15: 0.002438266 | M15: INR | N15: 94.774286 | O15: 1.4216143e+08 | P15: 1.4216143e+08 | Q15: 146169450 | R15: 150000000 | S15: 4008021.4 | T15: 356400 | U15: 0.1681 | V15: 0.1737 | W15: 4843000 | X15: 0 | Y15: 46203 | Z15: SOV | AA15: 6.68 | AB15: 46029 | AC15: 46210 | AD15: 51324 | AE15: 5121 | AF15: 51324 | AG15: MATURITY | AH15: LISTED | AK15: Government of India | AL15: Government of India | AM15: NSE
A16: QDBF | B16: Quantum Dynamic Term Fund | C16: GOI6960 | D16: IN0020250075 | E16: 7.24% GOI (MD 18/08/2055) | F16: GOVERNMENT | G16: Government Bond | H16: 3000000 | I16: 100 | J16: 98.9717 | K16: 99.1813 | L16: 0.0021133016 | M16: INR | N16: 97.779583 | O16: 293338750 | P16: 293338750 | Q16: 297543900 | R16: 300000000 | S16: 4205150 | T16: 628800 | U16: 0.3422 | V16: 0.3536 | W16: 8024333.3 | X16: 0 | Y16: 46203 | Z16: SOV | AA16: 7.24 | AB16: 46071 | AC16: 46252 | AD16: 56844 | AE16: 10641 | AF16: 56844 | AG16: MATURITY | AH16: LISTED | AK16: Government of India | AL16: Government of India | AM16: NSE
A17: QDBF | B17: Quantum Dynamic Term Fund | C17: GOI7094 | D17: IN0020250091 | E17: 6.48% GOI (MD 06/10/2035) | F17: GOVERNMENT | G17: Government Bond | H17: 100000 | I17: 100 | J17: 98.0178 | K17: 98.1129 | L17: 0.0009692915 | M17: INR | N17: 96.165365 | O17: 9616536.5 | P17: 9616536.5 | Q17: 9811290 | R17: 10000000 | S17: 194753.54 | T17: 9510 | U17: 0.0113 | V17: 0.0117 | W17: 153000 | X17: 0 | Y17: 46203 | Z17: SOV | AA17: 6.48 | AB17: 46118 | AC17: 46301 | AD17: 49588 | AE17: 3385 | AF17: 49588 | AG17: MATURITY | AH17: LISTED | AK17: Government of India | AL17: Government of India | AM17: NSE
A18: QDBF | B18: Quantum Dynamic Term Fund | F18: GOVERNMENT TOTAL | O18: 4.9664466e+08 | P18: 4.9664466e+08 | Q18: 5.0473701e+08 | S18: 8092354.9 | T18: 1057190.7 | U18: 0.5805 | V18: 0.5998 | W18: 13294208 | X18: 0
A19: QDBF | B19: Quantum Dynamic Term Fund | C19: GOI7060 | D19: IN1520250144 | E19: 7.07% Gujarat SDL (MD 24/09/2032) | F19: GSEC-S | G19: State Government Bond | H19: 72900 | I19: 100 | J19: 99.2448 | K19: 99.5166 | L19: 0.0027312026 | M19: INR | N19: 100 | O19: 7290000 | P19: 7290000 | Q19: 7254760.1 | R19: 7290000 | S19: -35239.86 | T19: 19814.22 | U19: 0.0083 | V19: 0.0086 | W19: 138872.48 | X19: 0 | Y19: 46203 | Z19: SOV | AA19: 7.07 | AB19: 46105 | AC19: 46289 | AD19: 48481 | AE19: 2278 | AF19: 48481 | AG19: MATURITY | AH19: LISTED | AK19: Government of India | AL19: State Government Securities | AM19: NSE
A20: QDBF | B20: Quantum Dynamic Term Fund | C20: GOI7073 | D20: IN3120250276 | E20: 7.05% Tamilnadu SDL (MD 17/09/2031) | F20: GSEC-S | G20: State Government Bond | H20: 500000 | I20: 100 | J20: 99.9205 | K20: 100.0066 | L20: 0.00086094318 | M20: INR | N20: 100.29 | O20: 50145000 | P20: 50145000 | Q20: 50003300 | R20: 50000000 | S20: -141700 | T20: 43050 | U20: 0.0575 | V20: 0.0594 | W20: 1018333.3 | X20: 0 | Y20: 46203 | Z20: SOV | AA20: 7.05 | AB20: 46098 | AC20: 46282 | AD20: 48108 | AE20: 1905 | AF20: 48108 | AG20: MATURITY | AH20: LISTED | AK20: Government of India | AL20: State Government Securities | AM20: NSE
A21: QDBF | B21: Quantum Dynamic Term Fund | C21: GOI7303 | D21: IN1920250074 | E21: 7.16% Karnataka SDL (MD 07/07/2031) | F21: GSEC-S | G21: State Government Bond | H21: 500000 | I21: 100 | J21: 100.3934 | K21: 100.477 | L21: 0.00083203121 | M21: INR | N21: 100.31 | O21: 50155000 | P21: 50155000 | Q21: 50238500 | R21: 50000000 | S21: 83500 | T21: 41800 | U21: 0.0578 | V21: 0.0597 | W21: 1730333.3 | X21: 0 | Y21: 46203 | Z21: SOV | AA21: 7.16 | AC21: 46210 | AD21: 48036 | AE21: 1833 | AF21: 48036 | AG21: MATURITY | AH21: LISTED | AK21: Government of India | AL21: State Government Securities | AM21: NSE
A22: QDBF | B22: Quantum Dynamic Term Fund | F22: GSEC-S TOTAL | O22: 107590000 | P22: 107590000 | Q22: 1.0749656e+08 | S22: -93439.86 | T22: 104664.22 | U22: 0.1236 | V22: 0.1277 | W22: 2887539.1 | X22: 0
A23: QDBF | B23: Quantum Dynamic Term Fund | C23: Cash & Cash Equivalent: | E23: Cash & Cash Equivalent: | Q23: 27926722 | U23: 0.0321
A24: QDBF | B24: Quantum Dynamic Term Fund | C24: Net Asset: | E24: Net Asset: | Q24: 8.6939927e+08 | U24: 1
A26: QEFF | B26: Quantum Diversified Equity All Cap Active FOF | C26: TRP_010726 | E26: TRP_010726 | F26: CBLO | G26: CBLO | H26: 172226.59 | I26: 100 | J26: 0 | K26: 100 | L26: 1 | M26: INR | N26: 99.985345 | O26: 17220135 | P26: 17222659 | Q26: 17222659 | R26: 17222659 | S26: 0 | T26: 0 | U26: 0.0133 | V26: 0.0135 | W26: 0 | X26: 2524.05 | Y26: 46203 | AC26: 46204 | AD26: 46204 | AE26: 1 | AF26: 46204 | AG26: MATURITY | AH26: UNLISTED | AK26: Others | AL26: Clearing Corporation of India Ltd | AM26: NSE
A27: QEFF | B27: Quantum Diversified Equity All Cap Active FOF | F27: CBLO TOTAL | O27: 17220135 | P27: 17222659 | Q27: 17222659 | S27: 0 | T27: 0 | U27: 0.0133 | V27: 0.0135 | W27: 0 | X27: 2524.05
A28: QEFF | B28: Quantum Diversified Equity All Cap Active FOF | C28: 118535 | D28: INF090I01FK3 | E28: Franklin India Flexi Cap Fund - Direct - Gr | F28: MUTFUND | G28: Mutual Fund Units | H28: 101821.54 | I28: 10 | J28: 1783.0501 | K28: 1778.2095 | L28: -0.0027221764 | M28: INR | N28: 1861.4973 | O28: 1.8954052e+08 | P28: 1.8954052e+08 | Q28: 1.8106003e+08 | R28: 1018215.4 | S28: -8480490.1 | T28: -492877.36 | U28: 0.1394 | V28: 0.1419 | W28: 0 | X28: 0 | Y28: 46203 | AH28: LISTED | AK28: Others | AL28: Franklin Templeton Mutual Fund | AM28: NSE
A29: QEFF | B29: Quantum Diversified Equity All Cap Active FOF | C29: 118632 | D29: INF204K01XI3 | E29: Nippon India Large Cap Fund-Direct Growth Plan | F29: MUTFUND | G29: Mutual Fund Units | H29: 1764828.3 | I29: 10 | J29: 100.7184 | K29: 100.4828 | L29: -0.0023446799 | M29: INR | N29: 104.90411 | O29: 1.8513774e+08 | P29: 1.8513774e+08 | Q29: 1.7733489e+08 | R29: 17648283 | S29: -7802849.7 | T29: -415793.56 | U29: 0.1365 | V29: 0.139 | W29: 0 | X29: 0 | Y29: 46203 | AH29: LISTED | AK29: Others | AL29: Nippon India Mutual Fund | AM29: NSE
A30: QEFF | B30: Quantum Diversified Equity All Cap Active FOF | C30: 118950 | D30: INF179K01VK7 | E30: HDFC Focused Fund - Growth Option - Direct Plan | F30: MUTFUND | G30: Mutual Fund Units | H30: 692165.05 | I30: 10 | J30: 262.482 | K30: 262.511 | L30: 0.00011047156 | M30: INR | N30: 267.91403 | O30: 1.8544073e+08 | P30: 1.8544073e+08 | Q30: 1.8170094e+08 | R30: 6921650.5 | S30: -3739788.5 | T30: 20072.79 | U30: 0.1399 | V30: 0.1424 | W30: 0 | X30: 0 | Y30: 46203 | AH30: LISTED | AK30: Others | AL30: HDFC Mutual Fund | AM30: NSE
A31: QEFF | B31: Quantum Diversified Equity All Cap Active FOF | C31: 119250 | D31: INF740K01PR3 | E31: DSP Large Cap Fund - Direct Plan - Growth | F31: MUTFUND | G31: Mutual Fund Units | H31: 356139.31 | I31: 10 | J31: 502.78 | K31: 501.426 | L31: -0.0027002987 | M31: INR | N31: 513.56217 | O31: 1.8289968e+08 | P31: 1.8289968e+08 | Q31: 1.7857751e+08 | R31: 3561393.1 | S31: -4322167.4 | T31: -482212.62 | U31: 0.1375 | V31: 0.14 | W31: 0 | X31: 0 | Y31: 46203 | AH31: LISTED | AK31: Others | AL31: DSP Mutual Fund | AM31: NSE
A32: QEFF | B32: Quantum Diversified Equity All Cap Active FOF | C32: 119564 | D32: INF209K01WE3 | E32: Aditya Birla Sun Life Focused Eq Fund - Grw-Dir Pl | F32: MUTFUND | G32: Mutual Fund Units | H32: 467091.59 | I32: 10 | J32: 162.9346 | K32: 162.7976 | L32: -0.00084153575 | M32: INR | N32: 162.80789 | O32: 76046197 | P32: 76046197 | Q32: 76041389 | R32: 4670915.9 | S32: -4808.3 | T32: -63991.55 | U32: 0.0585 | V32: 0.0596 | W32: 0 | X32: 0 | Y32: 46203 | AH32: LISTED | AK32: Others | AL32: Aditya Birla Sun Life Mutual Fund | AM32: NSE
A33: QEFF | B33: Quantum Diversified Equity All Cap Active FOF | C33: 120403 | D33: INF205K01MV6 | E33: Invesco India Midcap Fund - Direct Plan - Growth | F33: MUTFUND | G33: Mutual Fund Units | H33: 834465.55 | I33: 10 | J33: 235.55 | K33: 237.1 | L33: 0.006537326 | M33: INR | N33: 220.9088 | O33: 1.8434078e+08 | P33: 1.8434078e+08 | Q33: 1.9785178e+08 | R33: 8344655.5 | S33: 13510999 | T33: 1293421.6 | U33: 0.1523 | V33: 0.1551 | W33: 0 | X33: 0 | Y33: 46203 | AH33: LISTED | AK33: Others | AL33: Invesco Mutual Fund | AM33: NSE
A34: QEFF | B34: Quantum Diversified Equity All Cap Active FOF | C34: 120596 | D34: INF109K011O5 | E34: ICICI Pru Large & Mid Cap Fund -Direct Plan -Gr | F34: MUTFUND | G34: Mutual Fund Units | H34: 23999.125 | I34: 10 | J34: 1135.08 | K34: 1136.01 | L34: 0.00081865477 | M34: INR | N34: 1115.2339 | O34: 26764638 | P34: 26764638 | Q34: 27263246 | R34: 239991.25 | S34: 498608.42 | T34: -430158.66 | U34: 0.021 | V34: 0.0214 | W34: 0 | X34: 0 | Y34: 46203 | AH34: LISTED | AK34: Others | AL34: ICICI Prudential Mutual Fund | AM34: NSE
A35: QEFF | B35: Quantum Diversified Equity All Cap Active FOF | C35: 120722 | D35: INF109K018N2 | E35: ICICI Prudential Focused Equity Fund -Dir Pl-Gr op | F35: MUTFUND | G35: Mutual Fund Units | H35: 1730244.6 | I35: 10 | J35: 107.7 | K35: 107.89 | L35: 0.0017610529 | M35: INR | N35: 79.826617 | O35: 1.3811958e+08 | P35: 1.3811958e+08 | Q35: 1.8667609e+08 | R35: 17302446 | S35: 48556518 | T35: 328746.49 | U35: 0.1437 | V35: 0.1463 | W35: 0 | X35: 0 | Y35: 46203 | AH35: LISTED | AK35: Others | AL35: ICICI Prudential Mutual Fund | AM35: NSE
A36: QEFF | B36: Quantum Diversified Equity All Cap Active FOF | C36: 147473 | D36: INF174KA1EN7 | E36: Kotak Focused Fund- Direct Plan- Growth option | F36: MUTFUND | G36: Mutual Fund Units | H36: 1730905.9 | I36: 10 | J36: 29.901 | K36: 30.018 | L36: 0.0038976614 | M36: INR | N36: 30.04057 | O36: 51997400 | P36: 51997400 | Q36: 51958334 | R36: 17309059 | S36: -39066.01 | T36: 101571.61 | U36: 0.04 | V36: 0.0407 | W36: 0 | X36: 0 | Y36: 46203 | AH36: LISTED | AK36: Others | AL36: Kotak Mutual Fund | AM36: NSE
A37: QEFF | B37: Quantum Diversified Equity All Cap Active FOF | F37: MUTFUND TOTAL | O37: 1.2202873e+09 | P37: 1.2202873e+09 | Q37: 1.2584642e+09 | S37: 38176955 | T37: -141221.25 | U37: 0.9688 | V37: 0.9864 | W37: 0 | X37: 0
A38: QEFF | B38: Quantum Diversified Equity All Cap Active FOF | C38: Cash & Cash Equivalent: | E38: Cash & Cash Equivalent: | Q38: 23128574 | U38: 0.0179
A39: QEFF | B39: Quantum Diversified Equity All Cap Active FOF | C39: Net Asset: | E39: Net Asset: | Q39: 1.2988155e+09 | U39: 1
A41: QGSF | B41: Quantum Gold ETF FOF | C41: TRP_010726 | E41: TRP_010726 | F41: CBLO | G41: CBLO | H41: 100715.6 | I41: 100 | J41: 0 | K41: 100 | L41: 1 | M41: INR | N41: 99.985345 | O41: 10070084 | P41: 10071560 | Q41: 10071560 | R41: 10071560 | S41: 0 | T41: 0 | U41: 0.002 | V41: 0.002 | W41: 0 | X41: 1476.03 | Y41: 46203 | AC41: 46204 | AD41: 46204 | AE41: 1 | AF41: 46204 | AG41: MATURITY | AH41: UNLISTED | AK41: Others | AL41: Clearing Corporation of India Ltd | AM41: NSE
A42: QGSF | B42: Quantum Gold ETF FOF | F42: CBLO TOTAL | O42: 10070084 | P42: 10071560 | Q42: 10071560 | S42: 0 | T42: 0 | U42: 0.002 | V42: 0.002 | W42: 0 | X42: 1476.03
...

Sheet Equity
A1: QUANTUM MUTUAL FUND
A2: Holding Statement as on 30.06.2026
A3: Scheme Code | B3: Scheme Name | C3: Security Code | D3: ISIN | E3: Security Name | F3: Security Type | G3: Security Type Name | H3: Quantity | I3: Face Value Per Unit (Rs.) | J3: Previous Market Price | K3: Current Market Price | L3: Price Variance between Previous & Current (%) | M3: Quotation Currency | N3: Average Unit Cost (Rs.) | O3: Total Book Cost (Rs.) | P3: Ammortised Book Cost (Rs.) | Q3: Total Market Value (Rs.) | R3: Total Face Value (Rs.) | S3: Cummulative Unrealised Gain/(Loss) (Rs.) | T3: Unrealised Gain Loss for the Day (Rs.) | U3: Market Value as % of Net Asset | V3: Market Value as % of Total Investments | W3: Accrued Interest | X3: Accretion of Premium/Discount | Y3: Price Date | Z3: Rating | AA3: Coupon Rate | AB3: Previous IP Date | AC3: Next IP Date | AD3: Final Maturity | AE3: Residual Maturity Period (Days) | AF3: Maturity / Put / Call / Reset Option | AG3: Classification of Maturity / Put / Call / Reset Option | AH3: Listed / Unlisted | AI3: Illiquidty bps | AJ3: CBV Matrix | AK3: Sector / Industry Classification | AL3: Issuer Name | AM3: Exchange
A4: QESG | B4: QUANTUM ESG BEST IN CLASS STRATEGY FUND | C4: TRP_010726 | E4: TRP_010726 | F4: CBLO | G4: CBLO | H4: 186253.88 | I4: 100 | J4: 0 | K4: 100 | L4: 1 | M4: INR | N4: 99.985345 | O4: 18622658 | P4: 18625388 | Q4: 18625388 | R4: 18625388 | S4: 0 | T4: 0 | U4: 0.0203 | V4: 0.0203 | W4: 0 | X4: 2729.62 | Y4: 46203 | AC4: 46204 | AD4: 46204 | AE4: 1 | AF4: 46204 | AG4: MATURITY | AH4: UNLISTED | AK4: Others | AL4: Clearing Corporation of India Ltd | AM4: NSE
A5: QESG | B5: QUANTUM ESG BEST IN CLASS STRATEGY FUND | F5: CBLO TOTAL | O5: 18622658 | P5: 18625388 | Q5: 18625388 | S5: 0 | T5: 0 | U5: 0.0203 | V5: 0.0203 | W5: 0 | X5: 2729.62
A6: QESG | B6: QUANTUM ESG BEST IN CLASS STRATEGY FUND | C6: ABBP01 | D6: INE07Y701011 | E6: Hitachi Energy India Limited | F6: EQUITY | G6: Equity | H6: 619 | I6: 2 | J6: 34975 | K6: 34920 | L6: -0.0015750286 | M6: INR | N6: 13965.137 | O6: 8644420 | P6: 8644420 | Q6: 21615480 | R6: 1238 | S6: 12971060 | T6: -34045 | U6: 0.0235 | V6: 0.0235 | W6: 0 | X6: 0 | Y6: 46203 | AH6: LISTED | AK6: Electrical Equipment | AL6: Hitachi Energy India Limited | AM6: NSE
A7: QESG | B7: QUANTUM ESG BEST IN CLASS STRATEGY FUND | C7: AMBE01 | D7: INE371P01015 | E7: Amber Enterprises India Limited | F7: EQUITY | G7: Equity | H7: 2177 | I7: 10 | J7: 7413 | K7: 7530 | L7: 0.015537849 | M7: INR | N7: 6753.2216 | O7: 14701763 | P7: 14701763 | Q7: 16392810 | R7: 21770 | S7: 1691046.5 | T7: 254709 | U7: 0.0178 | V7: 0.0178 | W7: 0 | X7: 0 | Y7: 46203 | AH7: LISTED | AK7: Consumer Durables | AL7: Amber Enterprises India Limited | AM7: NSE
A8: QESG | B8: QUANTUM ESG BEST IN CLASS STRATEGY FUND | C8: ASEA02 | D8: INE117A01022 | E8: ABB India Ltd | F8: EQUITY | G8: Equity | H8: 1605 | I8: 2 | J8: 7128 | K8: 7031 | L8: -0.013796046 | M8: INR | N8: 5804.877 | O8: 9316827.6 | P8: 9316827.6 | Q8: 11284755 | R8: 3210 | S8: 1967927.4 | T8: -155685 | U8: 0.0123 | V8: 0.0123 | W8: 0 | X8: 0 | Y8: 46203 | AH8: LISTED | AK8: Electrical Equipment | AL8: ABB India Limited | AM8: NSE
A9: QESG | B9: QUANTUM ESG BEST IN CLASS STRATEGY FUND | C9: BAFL03 | D9: INE296A01032 | E9: Bajaj Finance Ltd | F9: EQUITY | G9: Equity | H9: 31356 | I9: 1 | J9: 982.05 | K9: 1004.75 | L9: 0.022592685 | M9: INR | N9: 785.44524 | O9: 24628421 | P9: 24628421 | Q9: 31504941 | R9: 31356 | S9: 6876520 | T9: 711781.2 | U9: 0.0343 | V9: 0.0343 | W9: 0 | X9: 0 | Y9: 46203 | AH9: LISTED | AK9: Finance | AL9: Bajaj Finance Limited | AM9: NSE
A10: QESG | B10: QUANTUM ESG BEST IN CLASS STRATEGY FUND | C10: BALN01 | D10: INE917I01010 | E10: Bajaj Auto Ltd | F10: EQUITY | G10: Equity | H10: 1444 | I10: 10 | J10: 9630 | K10: 9716 | L10: 0.0088513792 | M10: INR | N10: 6061.5101 | O10: 8752820.6 | P10: 8752820.6 | Q10: 14029904 | R10: 14440 | S10: 5277083.4 | T10: 124184 | U10: 0.0153 | V10: 0.0153 | W10: 0 | X10: 0 | Y10: 46203 | AH10: LISTED | AK10: Automobiles | AL10: Bajaj Auto Limited | AM10: NSE
A11: QESG | B11: QUANTUM ESG BEST IN CLASS STRATEGY FUND | C11: BFSL02 | D11: INE918I01026 | E11: Bajaj Finserv Ltd | F11: EQUITY | G11: Equity | H11: 9191 | I11: 1 | J11: 1759.3 | K11: 1780.2 | L11: 0.011740254 | M11: INR | N11: 1698.7827 | O11: 15613512 | P11: 15613512 | Q11: 16361818 | R11: 9191 | S11: 748305.98 | T11: 192091.9 | U11: 0.0178 | V11: 0.0178 | W11: 0 | X11: 0 | Y11: 46203 | AH11: LISTED | AK11: Finance | AL11: Bajaj Finserv Limited | AM11: NSE
A12: QESG | B12: QUANTUM ESG BEST IN CLASS STRATEGY FUND | C12: CAMS02 | D12: INE596I01020 | E12: Computer Age Management Services Limited | F12: EQUITY | G12: Equity | H12: 25258 | I12: 2 | J12: 788.65 | K12: 796.85 | L12: 0.010290519 | M12: INR | N12: 660.19809 | O12: 16675283 | P12: 16675283 | Q12: 20126837 | R12: 50516 | S12: 3451554 | T12: 207115.6 | U12: 0.0219 | V12: 0.0219 | W12: 0 | X12: 0 | Y12: 46203 | AH12: LISTED | AK12: Capital Markets | AL12: Computer Age Management Services Limited | AM12: NSE
A13: QESG | B13: QUANTUM ESG BEST IN CLASS STRATEGY FUND | C13: CAST03 | D13: INE172A01027 | E13: Castrol India Ltd | F13: EQUITY | G13: Equity | H13: 93125 | I13: 5 | J13: 185.1 | K13: 184.43 | L13: -0.0036328146 | M13: INR | N13: 155.89887 | O13: 14518082 | P13: 14518082 | Q13: 17175044 | R13: 465625 | S13: 2656961.8 | T13: -62393.75 | U13: 0.0187 | V13: 0.0187 | W13: 0 | X13: 0 | Y13: 46203 | AH13: LISTED | AK13: Petroleum Products | AL13: Castrol India Limited | AM13: NSE
A14: QESG | B14: QUANTUM ESG BEST IN CLASS STRATEGY FUND | C14: CDSL01 | D14: INE736A01011 | E14: Central Depository Services (India) Limited | F14: EQUITY | G14: Equity | H14: 14182 | I14: 10 | J14: 1297.9 | K14: 1305.5 | L14: 0.0058215243 | M14: INR | N14: 876.57056 | O14: 12431524 | P14: 12431524 | Q14: 18514601 | R14: 141820 | S14: 6083077.3 | T14: 107783.2 | U14: 0.0201 | V14: 0.0202 | W14: 0 | X14: 0 | Y14: 46203 | AH14: LISTED | AK14: Capital Markets | AL14: Central Depository Services (India) Limited | AM14: NSE
A15: QESG | B15: QUANTUM ESG BEST IN CLASS STRATEGY FUND | C15: CGCE01 | D15: INE299U01018 | E15: Crompton Greaves Consumer Electricals Limited | F15: EQUITY | G15: Equity | H15: 59398 | I15: 2 | J15: 273.5 | K15: 274.75 | L15: 0.0045495905 | M15: INR | N15: 339.13481 | O15: 20143929 | P15: 20143929 | Q15: 16319600 | R15: 118796 | S15: -3824328.9 | T15: 74247.5 | U15: 0.0178 | V15: 0.0178 | W15: 0 | X15: 0 | Y15: 46203 | AH15: LISTED | AK15: Consumer Durables | AL15: Crompton Greaves Consumer Electricals Limited | AM15: NSE
A16: QESG | B16: QUANTUM ESG BEST IN CLASS STRATEGY FUND | C16: COLG02 | D16: INE259A01022 | E16: Colgate Palmolive India Ltd | F16: EQUITY | G16: Equity | H16: 4373 | I16: 1 | J16: 1999.2 | K16: 1997.9 | L16: -0.00065068322 | M16: INR | N16: 1594.8072 | O16: 6974091.8 | P16: 6974091.8 | Q16: 8736816.7 | R16: 4373 | S16: 1762724.9 | T16: -5684.9 | U16: 0.0095 | V16: 0.0095 | W16: 0 | X16: 0 | Y16: 46203 | AH16: LISTED | AK16: Personal Products | AL16: Colgate Palmolive (India) Limited | AM16: NSE
A17: QESG | B17: QUANTUM ESG BEST IN CLASS STRATEGY FUND | C17: DIXO02 | D17: INE935N01020 | E17: Dixon Technologies (India) Limited | F17: EQUITY | G17: Equity | H17: 722 | I17: 2 | J17: 11805 | K17: 11920 | L17: 0.009647651 | M17: INR | N17: 14530.504 | O17: 10491024 | P17: 10491024 | Q17: 8606240 | R17: 1444 | S17: -1884784 | T17: 83030 | U17: 0.0094 | V17: 0.0094 | W17: 0 | X17: 0 | Y17: 46203 | AH17: LISTED | AK17: Consumer Durables | AL17: Dixon Technologies (India) Limited | AM17: NSE
... A57: QESG | B57: QUANTUM ESG BEST IN CLASS STRATEGY FUND | C57: WIPR02 | D57: INE075A01022 | E57: Wipro Ltd | F57: EQUITY | G57: Equity | H57: 27287 | I57: 2 | J57: 175.48 | K57: 170.39 | L57: -0.029872645 | M57: INR | N57: 211.4522 | O57: 5769896.2 | P57: 5769896.2 | Q57: 4649431.9 | R57: 54574 | S57: -1120464.3 | T57: -138890.83 | U57: 0.0051 | V57: 0.0051 | W57: 0 | X57: 0 | Y57: 46203 | AH57: LISTED | AK57: IT - Software | AL57: Wipro Limited | AM57: NSE
A58: QESG | B58: QUANTUM ESG BEST IN CLASS STRATEGY FUND | F58: EQUITY TOTAL | O58: 7.4821476e+08 | P58: 7.4821476e+08 | Q58: 9.0006856e+08 | S58: 1.518538e+08 | T58: -27299.29 | U58: 0.9793 | V58: 0.9797 | W58: 0 | X58: 0
A59: QESG | B59: QUANTUM ESG BEST IN CLASS STRATEGY FUND | C59: Cash & Cash Equivalent: | E59: Cash & Cash Equivalent: | Q59: 357492.16 | U59: 0.0004
A60: QESG | B60: QUANTUM ESG BEST IN CLASS STRATEGY FUND | C60: Net Asset: | E60: Net Asset: | Q60: 9.1905144e+08 | U60: 1
A62: QETHICAL | B62: Quantum Ethical Fund | C62: ABBP01 | D62: INE07Y701011 | E62: Hitachi Energy India Limited | F62: EQUITY | G62: Equity | H62: 1253 | I62: 2 | J62: 34975 | K62: 34920 | L62: -0.0015750286 | M62: INR | N62: 15283.543 | O62: 19150279 | P62: 19150279 | Q62: 43754760 | R62: 2506 | S62: 24604481 | T62: -68915 | U62: 0.0394 | V62: 0.0424 | W62: 0 | X62: 0 | Y62: 46203 | AH62: LISTED | AK62: Electrical Equipment | AL62: Hitachi Energy India Limited | AM62: NSE
A63: QETHICAL | B63: Quantum Ethical Fund | C63: AMBE01 | D63: INE371P01015 | E63: Amber Enterprises India Limited | F63: EQUITY | G63: Equity | H63: 3925 | I63: 10 | J63: 7413 | K63: 7530 | L63: 0.015537849 | M63: INR | N63: 6828.3472 | O63: 26801263 | P63: 26801263 | Q63: 29555250 | R63: 39250 | S63: 2753987.2 | T63: 459225 | U63: 0.0266 | V63: 0.0286 | W63: 0 | X63: 0 | Y63: 46203 | AH63: LISTED | AK63: Consumer Durables | AL63: Amber Enterprises India Limited | AM63: NSE
A64: QETHICAL | B64: Quantum Ethical Fund | C64: ASEA02 | D64: INE117A01022 | E64: ABB India Ltd | F64: EQUITY | G64: Equity | H64: 3732 | I64: 2 | J64: 7128 | K64: 7031 | L64: -0.013796046 | M64: INR | N64: 6344.8316 | O64: 23678912 | P64: 23678912 | Q64: 26239692 | R64: 7464 | S64: 2560780.5 | T64: -348957.99 | U64: 0.0237 | V64: 0.0254 | W64: 0 | X64: 0 | Y64: 46203 | AH64: LISTED | AK64: Electrical Equipment | AL64: ABB India Limited | AM64: NSE
A65: QETHICAL | B65: Quantum Ethical Fund | C65: BALN01 | D65: INE917I01010 | E65: Bajaj Auto Ltd | F65: EQUITY | G65: Equity | H65: 2935 | I65: 10 | J65: 9630 | K65: 9716 | L65: 0.0088513792 | M65: INR | N65: 8958.9691 | O65: 26294574 | P65: 26294574 | Q65: 28516460 | R65: 29350 | S65: 2221885.6 | T65: 252410 | U65: 0.0257 | V65: 0.0276 | W65: 0 | X65: 0 | Y65: 46203 | AH65: LISTED | AK65: Automobiles | AL65: Bajaj Auto Limited | AM65: NSE
A66: QETHICAL | B66: Quantum Ethical Fund | C66: BFLS01 | D66: INE356A01018 | E66: Mphasis Ltd | F66: EQUITY | G66: Equity | H66: 5407 | I66: 10 | J66: 2207.8 | K66: 2161.6 | L66: -0.021373057 | M66: INR | N66: 2735.9234 | O66: 14793138 | P66: 14793138 | Q66: 11687771 | R66: 54070 | S66: -3105366.8 | T66: -249803.4 | U66: 0.0105 | V66: 0.0113 | W66: 0 | X66: 0 | Y66: 46203 | AH66: LISTED | AK66: IT - Software | AL66: Mphasis Limited | AM66: NSE
A67: QETHICAL | B67: Quantum Ethical Fund | C67: BORL01 | D67: INE02PY01013 | E67: Borosil Limited | F67: EQUITY | G67: Equity | H67: 41023 | I67: 1 | J67: 234.25 | K67: 233.23 | L67: -0.0043733653 | M67: INR | N67: 324.47061 | O67: 13310758 | P67: 13310758 | Q67: 9567794.3 | R67: 41023 | S67: -3742963.7 | T67: -41843.46 | U67: 0.0086 | V67: 0.0093 | W67: 0 | X67: 0 | Y67: 46203 | AH67: LISTED | AK67: Consumer Durables | AL67: Borosil Limited | AM67: NSE
A68: QETHICAL | B68: Quantum Ethical Fund | C68: CAMS02 | D68: INE596I01020 | E68: Computer Age Management Services Limited | F68: EQUITY | G68: Equity | H68: 38489 | I68: 2 | J68: 788.65 | K68: 796.85 | L68: 0.010290519 | M68: INR | N68: 807.81451 | O68: 31091973 | P68: 31091973 | Q68: 30669960 | R68: 76978 | S68: -422013.18 | T68: 315609.8 | U68: 0.0276 | V68: 0.0297 | W68: 0 | X68: 0 | Y68: 46203 | AH68: LISTED | AK68: Capital Markets | AL68: Computer Age Management Services Limited | AM68: NSE
A69: QETHICAL | B69: Quantum Ethical Fund | C69: CAST03 | D69: INE172A01027 | E69: Castrol India Ltd | F69: EQUITY | G69: Equity | H69: 189060 | I69: 5 | J69: 185.1 | K69: 184.43 | L69: -0.0036328146 | M69: INR | N69: 196.80254 | O69: 37207488 | P69: 37207488 | Q69: 34868336 | R69: 945300 | S69: -2339152.4 | T69: -126670.2 | U69: 0.0314 | V69: 0.0338 | W69: 0 | X69: 0 | Y69: 46203 | AH69: LISTED | AK69: Petroleum Products | AL69: Castrol India Limited | AM69: NSE
A70: QETHICAL | B70: Quantum Ethical Fund | C70: CDSL01 | D70: INE736A01011 | E70: Central Depository Services (India) Limited | F70: EQUITY | G70: Equity | H70: 17186 | I70: 10 | J70: 1297.9 | K70: 1305.5 | L70: 0.0058215243 | M70: INR | N70: 1535.4255 | O70: 26387822 | P70: 26387822 | Q70: 22436323 | R70: 171860 | S70: -3951499.1 | T70: 130613.6 | U70: 0.0202 | V70: 0.0217 | W70: 0 | X70: 0 | Y70: 46203 | AH70: LISTED | AK70: Capital Markets | AL70: Central Depository Services (India) Limited | AM70: NSE
A71: QETHICAL | B71: Quantum Ethical Fund | C71: CGCE01 | D71: INE299U01018 | E71: Crompton Greaves Consumer Electricals Limited | F71: EQUITY | G71: Equity | H71: 113440 | I71: 2 | J71: 273.5 | K71: 274.75 | L71: 0.0045495905 | M71: INR | N71: 309.14667 | O71: 35069599 | P71: 35069599 | Q71: 31167640 | R71: 226880 | S71: -3901958.5 | T71: 141800 | U71: 0.0281 | V71: 0.0302 | W71: 0 | X71: 0 | Y71: 46203 | AH71: LISTED | AK71: Consumer Durables | AL71: Crompton Greaves Consumer Electricals Limited | AM71: NSE
A72: QETHICAL | B72: Quantum Ethical Fund | C72: DIXO02 | D72: INE935N01020 | E72: Dixon Technologies (India) Limited | F72: EQUITY | G72: Equity | H72: 752 | I72: 2 | J72: 11805 | K72: 11920 | L72: 0.009647651 | M72: INR | N72: 14428.794 | O72: 10850453 | P72: 10850453 | Q72: 8963840 | R72: 1504 | S72: -1886613 | T72: 86480 | U72: 0.0081 | V72: 0.0087 | W72: 0 | X72: 0 | Y72: 46203 | AH72: LISTED | AK72: Consumer Durables | AL72: Dixon Technologies (India) Limited | AM72: NSE
A73: QETHICAL | B73: Quantum Ethical Fund | C73: DLPL01 | D73: INE600L01024 | E73: Dr. Lal Pathlabs Limited | F73: EQUITY | G73: Equity | H73: 19626 | I73: 10 | J73: 1647 | K73: 1646.2 | L73: -0.00048596768 | M73: INR | N73: 1503.3754 | O73: 29505245 | P73: 29505245 | Q73: 32308321 | R73: 196260 | S73: 2803076.3 | T73: -15700.8 | U73: 0.0291 | V73: 0.0313 | W73: 0 | X73: 0 | Y73: 46203 | AH73: LISTED | AK73: Healthcare Services | AL73: Dr. Lal Path Labs Limited | AM73: NSE
... A106: QETHICAL | B106: Quantum Ethical Fund | C106: VSNL01 | D106: INE151A01013 | E106: Tata Communications Ltd | F106: EQUITY | G106: Equity | H106: 6861 | I106: 10 | J106: 1993.4 | K106: 1970.6 | L106: -0.01157008 | M106: INR | N106: 1696.1644 | O106: 11637384 | P106: 11637384 | Q106: 13520287 | R106: 68610 | S106: 1882902.7 | T106: -156430.8 | U106: 0.0122 | V106: 0.0131 | W106: 0 | X106: 0 | Y106: 46203 | AH106: LISTED | AK106: Telecom - Services | AL106: Tata Communications Limited | AM106: NSE
A107: QETHICAL | B107: Quantum Ethical Fund | F107: EQUITY TOTAL | O107: 1.0572231e+09 | P107: 1.0572231e+09 | Q107: 1.0325559e+09 | S107: -24667250 | T107: -3134576.8 | U107: 0.9306 | V107: 1 | W107: 0 | X107: 0
A108: QETHICAL | B108: Quantum Ethical Fund | C108: Cash & Cash Equivalent: | E108: Cash & Cash Equivalent: | Q108: 76810007 | U108: 0.0694
A109: QETHICAL | B109: Quantum Ethical Fund | C109: Net Asset: | E109: Net Asset: | Q109: 1.1093659e+09 | U109: 1
A111: QIF | B111: QUANTUM NIFTY 50 ETF | C111: TRP_010726 | E111: TRP_010726 | F111: CBLO | G111: CBLO | H111: 167.14 | I111: 100 | J111: 0 | K111: 100 | L111: 1 | M111: INR | N111: 99.985342 | O111: 16711.55 | P111: 16714 | Q111: 16714 | R111: 16714 | S111: 0 | T111: 0 | U111: 0 | V111: 0 | W111: 0 | X111: 2.45 | Y111: 46203 | AC111: 46204 | AD111: 46204 | AE111: 1 | AF111: 46204 | AG111: MATURITY | AH111: UNLISTED | AK111: Others | AL111: Clearing Corporation of India Ltd | AM111: NSE
A112: QIF | B112: QUANTUM NIFTY 50 ETF | F112: CBLO TOTAL | O112: 16711.55 | P112: 16714 | Q112: 16714 | S112: 0 | T112: 0 | U112: 0 | V112: 0 | W112: 0 | X112: 2.45
A113: QIF | B113: QUANTUM NIFTY 50 ETF | C113: ADAN02 | D113: INE423A01024 | E113: Adani Enterprises Ltd | F113: EQUITY | G113: Equity | H113: 1634 | I113: 1 | J113: 2962.5 | K113: 3036 | L113: 0.024209486 | M113: INR | N113: 2662.1605 | O113: 4349970.3 | P113: 4349970.3 | Q113: 4960824 | R113: 1634 | S113: 610853.67 | T113: 120099 | U113: 0.0079 | V113: 0.0079 | W113: 0 | X113: 0 | Y113: 46203 | AH113: LISTED | AK113: Metals & Minerals Trading | AL113: Adani Enterprises Limited | AM113: NSE
...

Sheet QLTEF vs QESG
A1: Portfolio Overlap Calculation: QLTEF vs QESG
A2: Based on Methodology from Annexure A (Auto-updates when Equity sheet changes)
A4: ISIN | B4: Security Name | C4: QLTEF Weightage (%) | D4: QESG Weightage (%) | E4: Overlap (Min of both) (%)
A5: {=_xlfn.LET(_xlpm.isins,_xlfn.ANCHORARRAY('Equity Lookup'!$A$7),_xlpm.qltef,_xlfn.ANCHORARRAY('Equity Lookup'!$C$7),_xlpm.qesg,_xlfn.ANCHORARRAY('Equity Lookup'!$D$7),_xlfn._xlws.FILTER(_xlpm.isins,(_xlpm.qltef>0)+(_xlpm.qesg>0)))} -> INE009A01021 | B5: {=_xlfn.LET(_xlpm.isins,_xlfn.ANCHORARRAY('Equity Lookup'!$A$7),_xlpm.names,_xlfn.ANCHORARRAY('Equity Lookup'!$B$7),_xlpm.qltef,_xlfn.ANCHORARRAY('Equity Lookup'!$C$7),_xlpm.qesg,_xlfn.ANCHORARRAY('Equity Lookup'!$D$7),_xlfn._xlws.FILTER(_xlpm.names,(_xlpm.qltef>0)+(_xlpm.qesg>0)))} -> Infosys Ltd | C5: {=_xlfn.LET(_xlpm.isins,_xlfn.ANCHORARRAY('Equity Lookup'!$A$7),_xlpm.qltef,_xlfn.ANCHORARRAY('Equity Lookup'!$C$7),_xlpm.qesg,_xlfn.ANCHORARRAY('Equity Lookup'!$D$7),_xlfn._xlws.FILTER(_xlpm.qltef,(_xlpm.qltef>0)+(_xlpm.qesg>0)))} -> 3.92 | D5: {=_xlfn.LET(_xlpm.isins,_xlfn.ANCHORARRAY('Equity Lookup'!$A$7),_xlpm.qltef,_xlfn.ANCHORARRAY('Equity Lookup'!$C$7),_xlpm.qesg,_xlfn.ANCHORARRAY('Equity Lookup'!$D$7),_xlfn._xlws.FILTER(_xlpm.qesg,(_xlpm.qltef>0)+(_xlpm.qesg>0)))} -> 2 | E5: {=_xlfn.MAP(_xlfn.ANCHORARRAY(C5),_xlfn.ANCHORARRAY(D5),_xlfn.LAMBDA(_xlpm.a,_xlpm.b,MIN(_xlpm.a,_xlpm.b)))} -> 2
A6: INE040A01034 | B6: HDFC Bank Ltd | C6: 7.75 | D6: 4.37 | E6: 4.37
A7: INE059A01026 | B7: Cipla Ltd | C7: 2.94 | D7: 0 | E7: 0
A8: INE062A01020 | B8: State Bank of India | C8: 2.57 | D8: 0 | E8: 0
A9: INE066A01021 | B9: Eicher Motors Limited | C9: 0 | D9: 1.82 | E9: 0
A10: INE075A01022 | B10: Wipro Ltd | C10: 2.52 | D10: 0.51 | E10: 0.51
A11: INE07Y701011 | B11: Hitachi Energy India Limited | C11: 0 | D11: 2.35 | E11: 0
A12: INE081A01020 | B12: Tata Steel Ltd | C12: 0.46 | D12: 0 | E12: 0
A13: INE089A01031 | B13: Dr Reddys Laboratories Ltd | C13: 2.45 | D13: 0 | E13: 0
A14: INE090A01021 | B14: ICICI Bank Ltd | C14: 7.25 | D14: 0 | E14: 0
A15: INE092A01019 | B15: Tata Chemicals Ltd | C15: 0 | D15: 1.12 | E15: 0
A16: INE095A01012 | B16: Indusind Bank Ltd | C16: 2.12 | D16: 0.92 | E16: 0.92
A17: INE0KCE01017 | B17: Eureka Forbes Ltd | C17: 0 | D17: 0.98 | E17: 0
... A73: INE967H01025 | B73: Krishna Institute Of Medical Sciences Limited | C73: 0 | D73: 1.31 | E73: 0
A150: SUMMARY
A151: Total Securities: | B151: =ROWS(_xlfn.ANCHORARRAY(A5)) -> 69
A152: Common Securities: | B152: {=SUMPRODUCT((_xlfn.ANCHORARRAY(C5)>0)*(_xlfn.ANCHORARRAY(D5)>0))} -> 14
A154: PORTFOLIO OVERLAP (%) | B154: =SUM(_xlfn.ANCHORARRAY(E5)) -> 25.18

Sheet QLTEF vs QETHICAL
A1: Portfolio Overlap Calculation: QLTEF vs QETHICAL
A2: Based on Methodology from Annexure A (Auto-updates when Equity sheet changes)
A4: ISIN | B4: Security Name | C4: QLTEF Weightage (%) | D4: QETHICAL Weightage (%) | E4: Overlap (Min of both) (%)
A5: {=_xlfn._xlws.FILTER('Equity Lookup'!$A$7:$A$200,('Equity Lookup'!$C$7:$C$200>0)+('Equity Lookup'!$E$7:$E$200>0))} -> INE009A01021 | B5: {=_xlfn._xlws.FILTER('Equity Lookup'!$B$7:$B$200,('Equity Lookup'!$C$7:$C$200>0)+('Equity Lookup'!$E$7:$E$200>0))} -> Infosys Ltd | C5: {=_xlfn._xlws.FILTER('Equity Lookup'!$C$7:$C$200,('Equity Lookup'!$C$7:$C$200>0)+('Equity Lookup'!$E$7:$E$200>0))} -> 3.92 | D5: {=_xlfn._xlws.FILTER('Equity Lookup'!$E$7:$E$200,('Equity Lookup'!$C$7:$C$200>0)+('Equity Lookup'!$E$7:$E$200>0))} -> 1.93 | E5: {=_xlfn.MAP(_xlfn.ANCHORARRAY(C5),_xlfn.ANCHORARRAY(D5),_xlfn.LAMBDA(_xlpm.a,_xlpm.b,MIN(_xlpm.a,_xlpm.b)))} -> 1.93
A6: INE02PY01013 | B6: Borosil Limited | C6: 0 | D6: 0.86 | E6: 0
A7: INE040A01034 | B7: HDFC Bank Ltd | C7: 7.75 | D7: 0 | E7: 0
A8: INE059A01026 | B8: Cipla Ltd | C8: 2.94 | D8: 0 | E8: 0
A9: INE062A01020 | B9: State Bank of India | C9: 2.57 | D9: 0 | E9: 0
A10: INE066A01021 | B10: Eicher Motors Limited | C10: 0 | D10: 2.92 | E10: 0
A11: INE075A01022 | B11: Wipro Ltd | C11: 2.52 | D11: 0 | E11: 0
A12: INE07Y701011 | B12: Hitachi Energy India Limited | C12: 0 | D12: 3.94 | E12: 0
A13: INE081A01020 | B13: Tata Steel Ltd | C13: 0.46 | D13: 0 | E13: 0
A14: INE089A01031 | B14: Dr Reddys Laboratories Ltd | C14: 2.45 | D14: 0 | E14: 0
A15: INE090A01021 | B15: ICICI Bank Ltd | C15: 7.25 | D15: 0 | E15: 0
A16: INE092A01019 | B16: Tata Chemicals Ltd | C16: 0 | D16: 0.79 | E16: 0
A17: INE095A01012 | B17: Indusind Bank Ltd | C17: 2.12 | D17: 0 | E17: 0
... A72: INE967H01025 | B72: Krishna Institute Of Medical Sciences Limited | C72: 0 | D72: 1.3 | E72: 0
A150: SUMMARY
A151: Total Securities: | B151: =ROWS(_xlfn.ANCHORARRAY(A5)) -> 68
A152: Common Securities: | B152: {=SUMPRODUCT((_xlfn.ANCHORARRAY(C5)>0)*(_xlfn.ANCHORARRAY(D5)>0))} -> 8
A154: PORTFOLIO OVERLAP (%) | B154: =SUM(_xlfn.ANCHORARRAY(E5)) -> 14.23

Sheet QLTEF vs QSCAPF
A1: Portfolio Overlap Calculation: QLTEF vs QSCAPF
A2: Based on Methodology from Annexure A (Auto-updates when Equity sheet changes)
A4: ISIN | B4: Security Name | C4: QLTEF Weightage (%) | D4: QSCAPF Weightage (%) | E4: Overlap (Min of both) (%)
A5: {=_xlfn._xlws.FILTER('Equity Lookup'!$A$7:$A$200,('Equity Lookup'!$C$7:$C$200>0)+('Equity Lookup'!$F$7:$F$200>0))} -> INE009A01021 | B5: {=_xlfn._xlws.FILTER('Equity Lookup'!$B$7:$B$200,('Equity Lookup'!$C$7:$C$200>0)+('Equity Lookup'!$F$7:$F$200>0))} -> Infosys Ltd | C5: {=_xlfn._xlws.FILTER('Equity Lookup'!$C$7:$C$200,('Equity Lookup'!$C$7:$C$200>0)+('Equity Lookup'!$F$7:$F$200>0))} -> 3.92 | D5: {=_xlfn._xlws.FILTER('Equity Lookup'!$F$7:$F$200,('Equity Lookup'!$C$7:$C$200>0)+('Equity Lookup'!$F$7:$F$200>0))} -> 0.78 | E5: {=_xlfn.MAP(_xlfn.ANCHORARRAY(C5),_xlfn.ANCHORARRAY(D5),_xlfn.LAMBDA(_xlpm.a,_xlpm.b,MIN(_xlpm.a,_xlpm.b)))} -> 0.78
A6: INE00LO01017 | B6: Craftsman Automation Limited | C6: 0 | D6: 0.78 | E6: 0
A7: INE036D01028 | B7: Karur Vysya Bank Ltd | C7: 0 | D7: 2.67 | E7: 0
A8: INE03Q201024 | B8: Alivus Life Sciences Limited | C8: 0 | D8: 2.36 | E8: 0
A9: INE040A01034 | B9: HDFC Bank Ltd | C9: 7.75 | D9: 1.54 | E9: 1.54
A10: INE040D01038 | B10: Mayur Uniquoters Ltd | C10: 0 | D10: 2.75 | E10: 0
A11: INE059A01026 | B11: Cipla Ltd | C11: 2.94 | D11: 0 | E11: 0
A12: INE062A01020 | B12: State Bank of India | C12: 2.57 | D12: 0 | E12: 0
A13: INE063P01018 | B13: Equitas Small Finance Bank Limited | C13: 0 | D13: 2.26 | E13: 0
A14: INE075A01022 | B14: Wipro Ltd | C14: 2.52 | D14: 0 | E14: 0
A15: INE079J01017 | B15: Gateway Distriparks Limited | C15: 0 | D15: 1.67 | E15: 0
A16: INE07RO01027 | B16: Supriya Lifescience Limited | C16: 0 | D16: 4.47 | E16: 0
A17: INE081A01020 | B17: Tata Steel Ltd | C17: 0.46 | D17: 0 | E17: 0
... A82: INE985S01024 | B82: TeamLease Services Limited | C82: 0 | D82: 0.91 | E82: 0
A150: SUMMARY
A151: Total Securities: | B151: =ROWS(_xlfn.ANCHORARRAY(A5)) -> 78
A152: Common Securities: | B152: {=SUMPRODUCT((_xlfn.ANCHORARRAY(C5)>0)*(_xlfn.ANCHORARRAY(D5)>0))} -> 12
A154: PORTFOLIO OVERLAP (%) | B154: =SUM(_xlfn.ANCHORARRAY(E5)) -> 17.34

Sheet QLTEF vs QTSF
A1: Portfolio Overlap Calculation: QLTEF vs QTSF
A2: Based on Methodology from Annexure A (Auto-updates when Equity sheet changes)
A4: ISIN | B4: Security Name | C4: QLTEF Weightage (%) | D4: QTSF Weightage (%) | E4: Overlap (Min of both) (%)
A5: {=_xlfn._xlws.FILTER('Equity Lookup'!$A$7:$A$200,('Equity Lookup'!$C$7:$C$200>0)+('Equity Lookup'!$G$7:$G$200>0))} -> INE009A01021 | B5: {=_xlfn._xlws.FILTER('Equity Lookup'!$B$7:$B$200,('Equity Lookup'!$C$7:$C$200>0)+('Equity Lookup'!$G$7:$G$200>0))} -> Infosys Ltd | C5: {=_xlfn._xlws.FILTER('Equity Lookup'!$C$7:$C$200,('Equity Lookup'!$C$7:$C$200>0)+('Equity Lookup'!$G$7:$G$200>0))} -> 3.92 | D5: {=_xlfn._xlws.FILTER('Equity Lookup'!$G$7:$G$200,('Equity Lookup'!$C$7:$C$200>0)+('Equity Lookup'!$G$7:$G$200>0))} -> 3.8 | E5: {=_xlfn.MAP(_xlfn.ANCHORARRAY(C5),_xlfn.ANCHORARRAY(D5),_xlfn.LAMBDA(_xlpm.a,_xlpm.b,MIN(_xlpm.a,_xlpm.b)))} -> 3.8
A6: INE040A01034 | B6: HDFC Bank Ltd | C6: 7.75 | D6: 7.67 | E6: 7.67
A7: INE059A01026 | B7: Cipla Ltd | C7: 2.94 | D7: 3.08 | E7: 2.94
A8: INE062A01020 | B8: State Bank of India | C8: 2.57 | D8: 2.89 | E8: 2.57
A9: INE075A01022 | B9: Wipro Ltd | C9: 2.52 | D9: 2.42 | E9: 2.42
A10: INE081A01020 | B10: Tata Steel Ltd | C10: 0.46 | D10: 0.32 | E10: 0.32
A11: INE089A01031 | B11: Dr Reddys Laboratories Ltd | C11: 2.45 | D11: 2.47 | E11: 2.45
A12: INE090A01021 | B12: ICICI Bank Ltd | C12: 7.25 | D12: 7.28 | E12: 7.25
A13: INE095A01012 | B13: Indusind Bank Ltd | C13: 2.12 | D13: 2.15 | E13: 2.12
A14: INE101A01026 | B14: Mahindra & Mahindra Ltd | C14: 1.28 | D14: 1.39 | E14: 1.28
A15: INE111A01025 | B15: Container Corporation of India Ltd | C15: 3.13 | D15: 3.11 | E15: 3.11
A16: INE115A01026 | B16: LIC Housing Finance Ltd | C16: 2.77 | D16: 2.72 | E16: 2.72
A17: INE118D01016 | B17: Nuvoco Vistas Corporation Limited | C17: 2.68 | D17: 2.74 | E17: 2.68
... A35: INE925R01014 | B35: CMS Info System Limited | C35: 2.2 | D35: 2.21 | E35: 2.2
A150: SUMMARY
A151: Total Securities: | B151: =ROWS(_xlfn.ANCHORARRAY(A5)) -> 31
A152: Common Securities: | B152: {=SUMPRODUCT((_xlfn.ANCHORARRAY(C5)>0)*(_xlfn.ANCHORARRAY(D5)>0))} -> 31
A154: PORTFOLIO OVERLAP (%) | B154: =SUM(_xlfn.ANCHORARRAY(E5)) -> 92.19

Sheet QESG vs QETHICAL
A1: Portfolio Overlap Calculation: QESG vs QETHICAL
A2: Based on Methodology from Annexure A (Auto-updates when Equity sheet changes)
A4: ISIN | B4: Security Name | C4: QESG Weightage (%) | D4: QETHICAL Weightage (%) | E4: Overlap (Min of both) (%)
A5: {=_xlfn._xlws.FILTER('Equity Lookup'!$A$7:$A$200,('Equity Lookup'!$D$7:$D$200>0)+('Equity Lookup'!$E$7:$E$200>0))} -> INE009A01021 | B5: {=_xlfn._xlws.FILTER('Equity Lookup'!$B$7:$B$200,('Equity Lookup'!$D$7:$D$200>0)+('Equity Lookup'!$E$7:$E$200>0))} -> Infosys Ltd | C5: {=_xlfn._xlws.FILTER('Equity Lookup'!$D$7:$D$200,('Equity Lookup'!$D$7:$D$200>0)+('Equity Lookup'!$E$7:$E$200>0))} -> 2 | D5: {=_xlfn._xlws.FILTER('Equity Lookup'!$E$7:$E$200,('Equity Lookup'!$D$7:$D$200>0)+('Equity Lookup'!$E$7:$E$200>0))} -> 1.93 | E5: {=_xlfn.MAP(_xlfn.ANCHORARRAY(C5),_xlfn.ANCHORARRAY(D5),_xlfn.LAMBDA(_xlpm.a,_xlpm.b,MIN(_xlpm.a,_xlpm.b)))} -> 1.93
A6: INE02PY01013 | B6: Borosil Limited | C6: 0 | D6: 0.86 | E6: 0
A7: INE040A01034 | B7: HDFC Bank Ltd | C7: 4.37 | D7: 0 | E7: 0
A8: INE066A01021 | B8: Eicher Motors Limited | C8: 1.82 | D8: 2.92 | E8: 1.82
A9: INE075A01022 | B9: Wipro Ltd | C9: 0.51 | D9: 0 | E9: 0
A10: INE07Y701011 | B10: Hitachi Energy India Limited | C10: 2.35 | D10: 3.94 | E10: 2.35
A11: INE092A01019 | B11: Tata Chemicals Ltd | C11: 1.12 | D11: 0.79 | E11: 0.79
A12: INE095A01012 | B12: Indusind Bank Ltd | C12: 0.92 | D12: 0 | E12: 0
A13: INE0KCE01017 | B13: Eureka Forbes Ltd | C13: 0.98 | D13: 1.05 | E13: 0.98
A14: INE0V6F01027 | B14: Hyundai Motor India Ltd | C14: 1.02 | D14: 2.19 | E14: 1.02
A15: INE101A01026 | B15: Mahindra & Mahindra Ltd | C15: 2.16 | D15: 2.08 | E15: 2.08
A16: INE117A01022 | B16: ABB India Ltd | C16: 1.23 | D16: 2.37 | E16: 1.23
A17: INE118D01016 | B17: Nuvoco Vistas Corporation Limited | C17: 0.96 | D17: 2.07 | E17: 0.96
... A64: INE967H01025 | B64: Krishna Institute Of Medical Sciences Limited | C64: 1.31 | D64: 1.3 | E64: 1.3
A150: SUMMARY
A151: Total Securities: | B151: =ROWS(_xlfn.ANCHORARRAY(A5)) -> 60
A152: Common Securities: | B152: {=SUMPRODUCT((_xlfn.ANCHORARRAY(C5)>0)*(_xlfn.ANCHORARRAY(D5)>0))} -> 37
A154: PORTFOLIO OVERLAP (%) | B154: =SUM(_xlfn.ANCHORARRAY(E5)) -> 63.2

Sheet QESG vs QTSF
A1: Portfolio Overlap Calculation: QESG vs QTSF
A2: Based on Methodology from Annexure A (Auto-updates when Equity sheet changes)
A4: ISIN | B4: Security Name | C4: QESG Weightage (%) | D4: QTSF Weightage (%) | E4: Overlap (Min of both) (%)
A5: {=_xlfn._xlws.FILTER('Equity Lookup'!$A$7:$A$200,('Equity Lookup'!$D$7:$D$200>0)+('Equity Lookup'!$G$7:$G$200>0))} -> INE009A01021 | B5: {=_xlfn._xlws.FILTER('Equity Lookup'!$B$7:$B$200,('Equity Lookup'!$D$7:$D$200>0)+('Equity Lookup'!$G$7:$G$200>0))} -> Infosys Ltd | C5: {=_xlfn._xlws.FILTER('Equity Lookup'!$D$7:$D$200,('Equity Lookup'!$D$7:$D$200>0)+('Equity Lookup'!$G$7:$G$200>0))} -> 2 | D5: {=_xlfn._xlws.FILTER('Equity Lookup'!$G$7:$G$200,('Equity Lookup'!$D$7:$D$200>0)+('Equity Lookup'!$G$7:$G$200>0))} -> 3.8 | E5: {=_xlfn.MAP(_xlfn.ANCHORARRAY(C5),_xlfn.ANCHORARRAY(D5),_xlfn.LAMBDA(_xlpm.a,_xlpm.b,MIN(_xlpm.a,_xlpm.b)))} -> 2
A6: INE040A01034 | B6: HDFC Bank Ltd | C6: 4.37 | D6: 7.67 | E6: 4.37
A7: INE059A01026 | B7: Cipla Ltd | C7: 0 | D7: 3.08 | E7: 0
A8: INE062A01020 | B8: State Bank of India | C8: 0 | D8: 2.89 | E8: 0
A9: INE066A01021 | B9: Eicher Motors Limited | C9: 1.82 | D9: 0 | E9: 0
A10: INE075A01022 | B10: Wipro Ltd | C10: 0.51 | D10: 2.42 | E10: 0.51
A11: INE07Y701011 | B11: Hitachi Energy India Limited | C11: 2.35 | D11: 0 | E11: 0
A12: INE081A01020 | B12: Tata Steel Ltd | C12: 0 | D12: 0.32 | E12: 0
A13: INE089A01031 | B13: Dr Reddys Laboratories Ltd | C13: 0 | D13: 2.47 | E13: 0
A14: INE090A01021 | B14: ICICI Bank Ltd | C14: 0 | D14: 7.28 | E14: 0
A15: INE092A01019 | B15: Tata Chemicals Ltd | C15: 1.12 | D15: 0 | E15: 0
A16: INE095A01012 | B16: Indusind Bank Ltd | C16: 0.92 | D16: 2.15 | E16: 0.92
A17: INE0KCE01017 | B17: Eureka Forbes Ltd | C17: 0.98 | D17: 0 | E17: 0
... A73: INE967H01025 | B73: Krishna Institute Of Medical Sciences Limited | C73: 1.31 | D73: 0 | E73: 0
A150: SUMMARY
A151: Total Securities: | B151: =ROWS(_xlfn.ANCHORARRAY(A5)) -> 69
A152: Common Securities: | B152: {=SUMPRODUCT((_xlfn.ANCHORARRAY(C5)>0)*(_xlfn.ANCHORARRAY(D5)>0))} -> 14
A154: PORTFOLIO OVERLAP (%) | B154: =SUM(_xlfn.ANCHORARRAY(E5)) -> 25.44

Sheet QTSF vs QETHICAL
A1: Portfolio Overlap Calculation: QTSF vs QETHICAL
A2: Based on Methodology from Annexure A (Auto-updates when Equity sheet changes)
A4: ISIN | B4: Security Name | C4: QTSF Weightage (%) | D4: QETHICAL Weightage (%) | E4: Overlap (Min of both) (%)
A5: {=_xlfn._xlws.FILTER('Equity Lookup'!$A$7:$A$200,('Equity Lookup'!$G$7:$G$200>0)+('Equity Lookup'!$E$7:$E$200>0))} -> INE009A01021 | B5: {=_xlfn._xlws.FILTER('Equity Lookup'!$B$7:$B$200,('Equity Lookup'!$G$7:$G$200>0)+('Equity Lookup'!$E$7:$E$200>0))} -> Infosys Ltd | C5: {=_xlfn._xlws.FILTER('Equity Lookup'!$G$7:$G$200,('Equity Lookup'!$G$7:$G$200>0)+('Equity Lookup'!$E$7:$E$200>0))} -> 3.8 | D5: {=_xlfn._xlws.FILTER('Equity Lookup'!$E$7:$E$200,('Equity Lookup'!$G$7:$G$200>0)+('Equity Lookup'!$E$7:$E$200>0))} -> 1.93 | E5: {=_xlfn.MAP(_xlfn.ANCHORARRAY(C5),_xlfn.ANCHORARRAY(D5),_xlfn.LAMBDA(_xlpm.a,_xlpm.b,MIN(_xlpm.a,_xlpm.b)))} -> 1.93
A6: INE02PY01013 | B6: Borosil Limited | C6: 0 | D6: 0.86 | E6: 0
A7: INE040A01034 | B7: HDFC Bank Ltd | C7: 7.67 | D7: 0 | E7: 0
A8: INE059A01026 | B8: Cipla Ltd | C8: 3.08 | D8: 0 | E8: 0
A9: INE062A01020 | B9: State Bank of India | C9: 2.89 | D9: 0 | E9: 0
A10: INE066A01021 | B10: Eicher Motors Limited | C10: 0 | D10: 2.92 | E10: 0
A11: INE075A01022 | B11: Wipro Ltd | C11: 2.42 | D11: 0 | E11: 0
A12: INE07Y701011 | B12: Hitachi Energy India Limited | C12: 0 | D12: 3.94 | E12: 0
A13: INE081A01020 | B13: Tata Steel Ltd | C13: 0.32 | D13: 0 | E13: 0
A14: INE089A01031 | B14: Dr Reddys Laboratories Ltd | C14: 2.47 | D14: 0 | E14: 0
A15: INE090A01021 | B15: ICICI Bank Ltd | C15: 7.28 | D15: 0 | E15: 0
A16: INE092A01019 | B16: Tata Chemicals Ltd | C16: 0 | D16: 0.79 | E16: 0
A17: INE095A01012 | B17: Indusind Bank Ltd | C17: 2.15 | D17: 0 | E17: 0
... A72: INE967H01025 | B72: Krishna Institute Of Medical Sciences Limited | C72: 0 | D72: 1.3 | E72: 0
A150: SUMMARY
A151: Total Securities: | B151: =ROWS(_xlfn.ANCHORARRAY(A5)) -> 68
A152: Common Securities: | B152: {=SUMPRODUCT((_xlfn.ANCHORARRAY(C5)>0)*(_xlfn.ANCHORARRAY(D5)>0))} -> 8
A154: PORTFOLIO OVERLAP (%) | B154: =SUM(_xlfn.ANCHORARRAY(E5)) -> 14.38

Sheet QESG vs QSCAPF
A1: Portfolio Overlap Calculation: QESG vs QSCAPF
A2: Based on Methodology from Annexure A (Auto-updates when Equity sheet changes)
A4: ISIN | B4: Security Name | C4: QESG Weightage (%) | D4: QSCAPF Weightage (%) | E4: Overlap (Min of both) (%)
A5: {=_xlfn._xlws.FILTER('Equity Lookup'!$A$7:$A$200,('Equity Lookup'!$D$7:$D$200>0)+('Equity Lookup'!$F$7:$F$200>0))} -> INE009A01021 | B5: {=_xlfn._xlws.FILTER('Equity Lookup'!$B$7:$B$200,('Equity Lookup'!$D$7:$D$200>0)+('Equity Lookup'!$F$7:$F$200>0))} -> Infosys Ltd | C5: {=_xlfn._xlws.FILTER('Equity Lookup'!$D$7:$D$200,('Equity Lookup'!$D$7:$D$200>0)+('Equity Lookup'!$F$7:$F$200>0))} -> 2 | D5: {=_xlfn._xlws.FILTER('Equity Lookup'!$F$7:$F$200,('Equity Lookup'!$D$7:$D$200>0)+('Equity Lookup'!$F$7:$F$200>0))} -> 0.78 | E5: {=_xlfn.MAP(_xlfn.ANCHORARRAY(C5),_xlfn.ANCHORARRAY(D5),_xlfn.LAMBDA(_xlpm.a,_xlpm.b,MIN(_xlpm.a,_xlpm.b)))} -> 0.78
A6: INE00LO01017 | B6: Craftsman Automation Limited | C6: 0 | D6: 0.78 | E6: 0
A7: INE036D01028 | B7: Karur Vysya Bank Ltd | C7: 0 | D7: 2.67 | E7: 0
A8: INE03Q201024 | B8: Alivus Life Sciences Limited | C8: 0 | D8: 2.36 | E8: 0
A9: INE040A01034 | B9: HDFC Bank Ltd | C9: 4.37 | D9: 1.54 | E9: 1.54
A10: INE040D01038 | B10: Mayur Uniquoters Ltd | C10: 0 | D10: 2.75 | E10: 0
A11: INE063P01018 | B11: Equitas Small Finance Bank Limited | C11: 0 | D11: 2.26 | E11: 0
A12: INE066A01021 | B12: Eicher Motors Limited | C12: 1.82 | D12: 0 | E12: 0
A13: INE075A01022 | B13: Wipro Ltd | C13: 0.51 | D13: 0 | E13: 0
A14: INE079J01017 | B14: Gateway Distriparks Limited | C14: 0 | D14: 1.67 | E14: 0
A15: INE07RO01027 | B15: Supriya Lifescience Limited | C15: 0 | D15: 4.47 | E15: 0
A16: INE07Y701011 | B16: Hitachi Energy India Limited | C16: 2.35 | D16: 0 | E16: 0
A17: INE08U801020 | B17: Samhi Hotels Limited | C17: 0 | D17: 1.84 | E17: 0
... A107: INE985S01024 | B107: TeamLease Services Limited | C107: 0 | D107: 0.91 | E107: 0
A150: SUMMARY
A151: Total Securities: | B151: =ROWS(_xlfn.ANCHORARRAY(A5)) -> 103
A152: Common Securities: | B152: {=SUMPRODUCT((_xlfn.ANCHORARRAY(C5)>0)*(_xlfn.ANCHORARRAY(D5)>0))} -> 8
A154: PORTFOLIO OVERLAP (%) | B154: =SUM(_xlfn.ANCHORARRAY(E5)) -> 9.96

Sheet QTSF vs QSCAPF
A1: Portfolio Overlap Calculation: QTSF vs QSCAPF
A2: Based on Methodology from Annexure A (Auto-updates when Equity sheet changes)
A4: ISIN | B4: Security Name | C4: QTSF Weightage (%) | D4: QSCAPF Weightage (%) | E4: Overlap (Min of both) (%)
A5: {=_xlfn._xlws.FILTER('Equity Lookup'!$A$7:$A$200,('Equity Lookup'!$G$7:$G$200>0)+('Equity Lookup'!$F$7:$F$200>0))} -> INE009A01021 | B5: {=_xlfn._xlws.FILTER('Equity Lookup'!$B$7:$B$200,('Equity Lookup'!$G$7:$G$200>0)+('Equity Lookup'!$F$7:$F$200>0))} -> Infosys Ltd | C5: {=_xlfn._xlws.FILTER('Equity Lookup'!$G$7:$G$200,('Equity Lookup'!$G$7:$G$200>0)+('Equity Lookup'!$F$7:$F$200>0))} -> 3.8 | D5: {=_xlfn._xlws.FILTER('Equity Lookup'!$F$7:$F$200,('Equity Lookup'!$G$7:$G$200>0)+('Equity Lookup'!$F$7:$F$200>0))} -> 0.78 | E5: {=_xlfn.MAP(_xlfn.ANCHORARRAY(C5),_xlfn.ANCHORARRAY(D5),_xlfn.LAMBDA(_xlpm.a,_xlpm.b,MIN(_xlpm.a,_xlpm.b)))} -> 0.78
A6: INE00LO01017 | B6: Craftsman Automation Limited | C6: 0 | D6: 0.78 | E6: 0
A7: INE036D01028 | B7: Karur Vysya Bank Ltd | C7: 0 | D7: 2.67 | E7: 0
A8: INE03Q201024 | B8: Alivus Life Sciences Limited | C8: 0 | D8: 2.36 | E8: 0
A9: INE040A01034 | B9: HDFC Bank Ltd | C9: 7.67 | D9: 1.54 | E9: 1.54
A10: INE040D01038 | B10: Mayur Uniquoters Ltd | C10: 0 | D10: 2.75 | E10: 0
A11: INE059A01026 | B11: Cipla Ltd | C11: 3.08 | D11: 0 | E11: 0
A12: INE062A01020 | B12: State Bank of India | C12: 2.89 | D12: 0 | E12: 0
A13: INE063P01018 | B13: Equitas Small Finance Bank Limited | C13: 0 | D13: 2.26 | E13: 0
A14: INE075A01022 | B14: Wipro Ltd | C14: 2.42 | D14: 0 | E14: 0
A15: INE079J01017 | B15: Gateway Distriparks Limited | C15: 0 | D15: 1.67 | E15: 0
A16: INE07RO01027 | B16: Supriya Lifescience Limited | C16: 0 | D16: 4.47 | E16: 0
A17: INE081A01020 | B17: Tata Steel Ltd | C17: 0.32 | D17: 0 | E17: 0
... A82: INE985S01024 | B82: TeamLease Services Limited | C82: 0 | D82: 0.91 | E82: 0
A150: SUMMARY
A151: Total Securities: | B151: =ROWS(_xlfn.ANCHORARRAY(A5)) -> 78
A152: Common Securities: | B152: {=SUMPRODUCT((_xlfn.ANCHORARRAY(C5)>0)*(_xlfn.ANCHORARRAY(D5)>0))} -> 12
A154: PORTFOLIO OVERLAP (%) | B154: =SUM(_xlfn.ANCHORARRAY(E5)) -> 17.34

Sheet QSCAPF vs QETHICAL
A1: Portfolio Overlap Calculation: QSCAPF vs QETHICAL
A2: Based on Methodology from Annexure A (Auto-updates when Equity sheet changes)
A4: ISIN | B4: Security Name | C4: QSCAPF Weightage (%) | D4: QETHICAL Weightage (%) | E4: Overlap (Min of both) (%)
A5: {=_xlfn._xlws.FILTER('Equity Lookup'!$A$7:$A$200,('Equity Lookup'!$F$7:$F$200>0)+('Equity Lookup'!$E$7:$E$200>0))} -> INE009A01021 | B5: {=_xlfn._xlws.FILTER('Equity Lookup'!$B$7:$B$200,('Equity Lookup'!$F$7:$F$200>0)+('Equity Lookup'!$E$7:$E$200>0))} -> Infosys Ltd | C5: {=_xlfn._xlws.FILTER('Equity Lookup'!$F$7:$F$200,('Equity Lookup'!$F$7:$F$200>0)+('Equity Lookup'!$E$7:$E$200>0))} -> 0.78 | D5: {=_xlfn._xlws.FILTER('Equity Lookup'!$E$7:$E$200,('Equity Lookup'!$F$7:$F$200>0)+('Equity Lookup'!$E$7:$E$200>0))} -> 1.93 | E5: {=_xlfn.MAP(_xlfn.ANCHORARRAY(C5),_xlfn.ANCHORARRAY(D5),_xlfn.LAMBDA(_xlpm.a,_xlpm.b,MIN(_xlpm.a,_xlpm.b)))} -> 0.78
A6: INE00LO01017 | B6: Craftsman Automation Limited | C6: 0.78 | D6: 0 | E6: 0
A7: INE02PY01013 | B7: Borosil Limited | C7: 0 | D7: 0.86 | E7: 0
A8: INE036D01028 | B8: Karur Vysya Bank Ltd | C8: 2.67 | D8: 0 | E8: 0
A9: INE03Q201024 | B9: Alivus Life Sciences Limited | C9: 2.36 | D9: 0 | E9: 0
A10: INE040A01034 | B10: HDFC Bank Ltd | C10: 1.54 | D10: 0 | E10: 0
A11: INE040D01038 | B11: Mayur Uniquoters Ltd | C11: 2.75 | D11: 0 | E11: 0
A12: INE063P01018 | B12: Equitas Small Finance Bank Limited | C12: 2.26 | D12: 0 | E12: 0
A13: INE066A01021 | B13: Eicher Motors Limited | C13: 0 | D13: 2.92 | E13: 0
A14: INE079J01017 | B14: Gateway Distriparks Limited | C14: 1.67 | D14: 0 | E14: 0
A15: INE07RO01027 | B15: Supriya Lifescience Limited | C15: 4.47 | D15: 0 | E15: 0
A16: INE07Y701011 | B16: Hitachi Energy India Limited | C16: 0 | D16: 3.94 | E16: 0
A17: INE08U801020 | B17: Samhi Hotels Limited | C17: 1.84 | D17: 0 | E17: 0
... A104: INE985S01024 | B104: TeamLease Services Limited | C104: 0.91 | D104: 0 | E104: 0
A150: SUMMARY
A151: Total Securities: | B151: =ROWS(_xlfn.ANCHORARRAY(A5)) -> 100
A152: Common Securities: | B152: {=SUMPRODUCT((_xlfn.ANCHORARRAY(C5)>0)*(_xlfn.ANCHORARRAY(D5)>0))} -> 4
A154: PORTFOLIO OVERLAP (%) | B154: =SUM(_xlfn.ANCHORARRAY(E5)) -> 5.91

Sheet QLTEF vs QMULTI
A1: Portfolio Overlap Calculation: QLTEF vs QMULTI
A2: Based on Equity Holdings
A4: ISIN | B4: Security Name | C4: QLTEF Weightage (%) | D4: QMULTI Weightage (%) | E4: Overlap (Min Weightage)
A5: {=_xlfn._xlws.FILTER('Equity Lookup'!$A$7:$A$200,('Equity Lookup'!$C$7:$C$200>0)+('Equity Lookup'!$H$7:$H$200>0))} -> IN0020230119 | B5: {=_xlfn._xlws.FILTER('Equity Lookup'!$B$7:$B$200,('Equity Lookup'!$C$7:$C$200>0)+('Equity Lookup'!$H$7:$H$200>0))} -> 7.33% GOI (MD 30/10/2026) | C5: {=_xlfn._xlws.FILTER('Equity Lookup'!$C$7:$C$200,('Equity Lookup'!$C$7:$C$200>0)+('Equity Lookup'!$H$7:$H$200>0))} -> 0 | D5: {=_xlfn._xlws.FILTER('Equity Lookup'!$H$7:$H$200,('Equity Lookup'!$C$7:$C$200>0)+('Equity Lookup'!$H$7:$H$200>0))} -> 0.79 | E5: {=_xlfn.MAP(_xlfn.ANCHORARRAY(C5),_xlfn.ANCHORARRAY(D5),_xlfn.LAMBDA(_xlpm.a,_xlpm.b,MIN(_xlpm.a,_xlpm.b)))} -> 0
A6: IN0020250075 | B6: 7.24% GOI (MD 18/08/2055) | C6: 0 | D6: 1.91 | E6: 0
A7: IN0020260025 | B7: 6.94% GOI (MD 11/05/2036) | C7: 0 | D7: 1.78 | E7: 0
A8: IN3120240681 | B8: 6.89% Tamilnadu SDL (MD 19/09/2028) | C8: 0 | D8: 17.61 | E8: 0
A9: IN3120250391 | B9: 6.55% Tamilnadu SDL (MD 19/11/2029) | C9: 0 | D9: 8.7 | E9: 0
A10: INE009A01021 | B10: Infosys Ltd | C10: 3.92 | D10: 2.35 | E10: 2.35
A11: INE021A01026 | B11: Asian Paints Ltd | C11: 0 | D11: 0.48 | E11: 0
A12: INE030A01027 | B12: Hindustan Unilever Ltd | C12: 0 | D12: 0.7 | E12: 0
A13: INE040A01034 | B13: HDFC Bank Ltd | C13: 7.75 | D13: 4.77 | E13: 4.77
A14: INE059A01026 | B14: Cipla Ltd | C14: 2.94 | D14: 1.54 | E14: 1.54
A15: INE062A01020 | B15: State Bank of India | C15: 2.57 | D15: 2.52 | E15: 2.52
A16: INE066A01021 | B16: Eicher Motors Limited | C16: 0 | D16: 0.79 | E16: 0
A17: INE075A01022 | B17: Wipro Ltd | C17: 2.52 | D17: 0.68 | E17: 0.68
... A56: INF082J01408 | B56: Quantum Gold ETF | C56: 0 | D56: 14.55 | E56: 0
A150: SUMMARY
A151: Total Securities: | B151: =ROWS(_xlfn.ANCHORARRAY(A5)) -> 52
A152: Common Securities: | B152: {=SUMPRODUCT((_xlfn.ANCHORARRAY(C5)>0)*(_xlfn.ANCHORARRAY(D5)>0))} -> 25
